BEGIN:VCALENDAR
VERSION:2.0
PRODID:-//Municipio de Samborondón - ECPv6.3.1//NONSGML v1.0//EN
CALSCALE:GREGORIAN
METHOD:PUBLISH
X-ORIGINAL-URL:https://www.samborondon.gob.ec
X-WR-CALDESC:Eventos para Municipio de Samborondón
REFRESH-INTERVAL;VALUE=DURATION:PT1H
X-Robots-Tag:noindex
X-PUBLISHED-TTL:PT1H
BEGIN:VTIMEZONE
TZID:America/New_York
BEGIN:DAYLIGHT
TZOFFSETFROM:-0500
TZOFFSETTO:-0400
TZNAME:EDT
DTSTART:20250309T070000
END:DAYLIGHT
BEGIN:STANDARD
TZOFFSETFROM:-0400
TZOFFSETTO:-0500
TZNAME:EST
DTSTART:20251102T060000
END:STANDARD
END:VTIMEZONE
BEGIN:VEVENT
DTSTART;VALUE=DATE:20251212
DTEND;VALUE=DATE:20251213
DTSTAMP:20260424T161736
CREATED:20201104T163710Z
LAST-MODIFIED:20250610T003756Z
UID:4577-1765497600-1765583999@www.samborondon.gob.ec
SUMMARY:20 años de Parroquialización de La Puntilla
DESCRIPTION:La parroquia satélite La Puntilla cumple 20 años de desarrollo y de convertirse en el lugar donde todos quieren vivir. Se siguen gestionando nuevas soluciones y planificando un crecimiento ordenado siempre en beneficio de los moradores\, para cuidar la seguridad\, tranquilidad y estilo de vida que caracterizan a este sitio.
URL:https://www.samborondon.gob.ec/evento/20-anos-de-parroquializacion-de-la-puntilla/
LOCATION:municipio de samborondon\, 10500\, Avenida Samborondón Este\, Samborondón\, Samborodon\, Guayas\, 10500\, Ecuador
CATEGORIES:Eventos Samborondón
ATTACH;FMTTYPE=image/jpeg:https://www.samborondon.gob.ec/wp-content/uploads/2020/11/Samborondoon-Parroquializacion.jpg
ORGANIZER;CN="Municipio de Samborod%C3%B3n":MAILTO:info@samborondon.gob.ec
END:VEVENT
END:VCALENDAR