BEGIN:VCALENDAR
VERSION:2.0
PRODID:-//Municipio de Samborondón - ECPv6.3.1//NONSGML v1.0//EN
CALSCALE:GREGORIAN
METHOD:PUBLISH
X-WR-CALNAME:Municipio de Samborondón
X-ORIGINAL-URL:https://www.samborondon.gob.ec
X-WR-CALDESC:Eventos para Municipio de Samborondón
REFRESH-INTERVAL;VALUE=DURATION:PT1H
X-Robots-Tag:noindex
X-PUBLISHED-TTL:PT1H
BEGIN:VTIMEZONE
TZID:America/New_York
BEGIN:DAYLIGHT
TZOFFSETFROM:-0500
TZOFFSETTO:-0400
TZNAME:EDT
DTSTART:20240310T070000
END:DAYLIGHT
BEGIN:STANDARD
TZOFFSETFROM:-0400
TZOFFSETTO:-0500
TZNAME:EST
DTSTART:20241103T060000
END:STANDARD
END:VTIMEZONE
BEGIN:VEVENT
DTSTART;TZID=America/New_York:20240209T150000
DTEND;TZID=America/New_York:20240213T210000
DTSTAMP:20260425T114826
CREATED:20200207T161635Z
LAST-MODIFIED:20231025T020016Z
UID:3846-1707490800-1707858000@www.samborondon.gob.ec
SUMMARY:¡El Carnaval se celebra en Samborondón!
DESCRIPTION:Este Carnaval 2024 en Samborondón viene con muchas sorpresas que no te puedes perder.\nLunes 12\, martes 13 de febrero\, disfrutá este nuevo carnaval con nosotros
URL:https://www.samborondon.gob.ec/evento/el-carnaval-se-celebra-en-samborondon/
LOCATION:municipio de samborondon\, 10500\, Avenida Samborondón Este\, Samborondón\, Samborodon\, Guayas\, 10500\, Ecuador
CATEGORIES:Eventos Samborondón
ATTACH;FMTTYPE=image/jpeg:https://www.samborondon.gob.ec/wp-content/uploads/2022/11/67-anos-de-cantonizacion.jpg
ORGANIZER;CN="Municipio de Samborod%C3%B3n":MAILTO:info@samborondon.gob.ec
END:VEVENT
END:VCALENDAR